BEGIN:VCALENDAR
VERSION:2.0
PRODID:-//Bradwall Parish Council//Meeting Calendar//EN
CALSCALE:GREGORIAN
METHOD:PUBLISH
BEGIN:VEVENT
UID:70533-20210101@bradwallparish.gov.uk
DTSTAMP:20260423T085057Z
DTSTART;VALUE=DATE:20210101
DTEND;VALUE=DATE:20210102
SUMMARY:Council Meetings &#8211\\; 2021
DESCRIPTION:Full Council Meeting\nView details: https://bradwallparish.gov.uk/meetings/council-meetings-2021/
URL:https://bradwallparish.gov.uk/meetings/council-meetings-2021/
END:VEVENT
END:VCALENDAR
