BEGIN:VCALENDAR
VERSION:2.0
PRODID:-//Bradwall Parish Council//Meeting Calendar//EN
CALSCALE:GREGORIAN
METHOD:PUBLISH
BEGIN:VEVENT
UID:70544-20200101@bradwallparish.gov.uk
DTSTAMP:20260423T090812Z
DTSTART;VALUE=DATE:20200101
DTEND;VALUE=DATE:20200102
SUMMARY:Council Meetings &#8211\\; 2020
DESCRIPTION:Full Council Meeting\nView details: https://bradwallparish.gov.uk/meetings/council-meetings-2020/
URL:https://bradwallparish.gov.uk/meetings/council-meetings-2020/
END:VEVENT
END:VCALENDAR
