BEGIN:VCALENDAR
VERSION:2.0
PRODID:-//Bradwall Parish Council//Meeting Calendar//EN
CALSCALE:GREGORIAN
METHOD:PUBLISH
BEGIN:VEVENT
UID:70845-20260514@bradwallparish.gov.uk
DTSTAMP:20260423T090454Z
DTSTART;VALUE=DATE:20260514
DTEND;VALUE=DATE:20260515
SUMMARY:Full Council meeting- Old Hall Sandbach Thursday 14th May 2026 8:00 pm
DESCRIPTION:Full Council Meeting\nView details: https://bradwallparish.gov.uk/meetings/full-council-meeting-old-hall-sandbach-tuesday-12th-may-2026-800-pm/
URL:https://bradwallparish.gov.uk/meetings/full-council-meeting-old-hall-sandbach-tuesday-12th-may-2026-800-pm/
END:VEVENT
END:VCALENDAR
