BEGIN:VCALENDAR
VERSION:2.0
PRODID:-//Bradwall Parish Council//Meeting Calendar//EN
CALSCALE:GREGORIAN
METHOD:PUBLISH
BEGIN:VEVENT
UID:70846-20260708@bradwallparish.gov.uk
DTSTAMP:20260423T085147Z
DTSTART;VALUE=DATE:20260708
DTEND;VALUE=DATE:20260709
SUMMARY:Full Council meeting- Old Hall Sandbach Wednesday 8th July 2026 8:00 pm
DESCRIPTION:Full Council Meeting\nView details: https://bradwallparish.gov.uk/meetings/full-council-meeting-old-hall-sandbach-wednesday-8th-july-2026-800-pm/
URL:https://bradwallparish.gov.uk/meetings/full-council-meeting-old-hall-sandbach-wednesday-8th-july-2026-800-pm/
END:VEVENT
END:VCALENDAR
