BEGIN:VCALENDAR
VERSION:2.0
PRODID:-//Bradwall Parish Council//Meeting Calendar//EN
CALSCALE:GREGORIAN
METHOD:PUBLISH
BEGIN:VEVENT
UID:70847-20260909@bradwallparish.gov.uk
DTSTAMP:20260419T145913Z
DTSTART;VALUE=DATE:20260909
DTEND;VALUE=DATE:20260910
SUMMARY:Full Council meeting- Old Hall Sandbach Wednesday 9th September 2026 8:00 pm
DESCRIPTION:Full Council Meeting\nView details: https://bradwallparish.gov.uk/meetings/full-council-meeting-old-hall-sandbach-wednesday-9th-september-2026-800-pm/
URL:https://bradwallparish.gov.uk/meetings/full-council-meeting-old-hall-sandbach-wednesday-9th-september-2026-800-pm/
END:VEVENT
END:VCALENDAR
